BEGIN:VCALENDAR
VERSION:2.0
BEGIN:VEVENT
DTSTART:20250205T110000
DTEND:20250205T111500
LOCATION:25A  Corrie Road, North Manly
DESCRIPTION;ENCODING=QUOTED-PRINTABLE:=
Open House: 25A  Corrie Road, North Manly=0D=0A05-Feb-2025 11:00AM to 11:15AM=0D=0Ahttp://www.clarkeandhumel.com.auhttps://www.clarkeandhumel.com.au/renting/for-lease/25a-corrie-road/
SUMMARY:Open House: 25A  Corrie Road, North Manly
PRIORITY:2
END:VEVENT
END:VCALENDAR
