BEGIN:VCALENDAR
VERSION:2.0
BEGIN:VEVENT
DTSTART:20260424T124500
DTEND:20260424T130000
LOCATION:1/95 West Street, Balgowlah
DESCRIPTION;ENCODING=QUOTED-PRINTABLE:=
Open House: 1/95 West Street, Balgowlah=0D=0A24-Apr-2026 12:45PM to 1:00PM=0D=0Ahttp://www.clarkeandhumel.com.auhttps://clarkeandhumel.com.au/renting/for-lease/195-west-street
SUMMARY:Open House: 1/95 West Street, Balgowlah
PRIORITY:2
END:VEVENT
END:VCALENDAR
