BEGIN:VCALENDAR
VERSION:2.0
BEGIN:VEVENT
DTSTART:20260422T090000
DTEND:20260422T100000
LOCATION:204/48 Lawrence Street, Freshwater 
DESCRIPTION;ENCODING=QUOTED-PRINTABLE:=
Open House: 204/48 Lawrence Street, Freshwater =0D=0A22-Apr-2026 9:00AM to 10:00AM=0D=0Ahttp://www.clarkeandhumel.com.auhttps://www.clarkeandhumel.com.au/renting/for-lease/20448-lawrence-street/
SUMMARY:Open House: 204/48 Lawrence Street, Freshwater 
PRIORITY:2
END:VEVENT
END:VCALENDAR
