BEGIN:VCALENDAR
VERSION:2.0
BEGIN:VEVENT
DTSTART:20260422T140500
DTEND:20260422T142000
LOCATION:24/26 The Crescent, Manly
DESCRIPTION;ENCODING=QUOTED-PRINTABLE:=
Open House: 24/26 The Crescent, Manly=0D=0A22-Apr-2026 2:05PM to 2:20PM=0D=0Ahttp://www.clarkeandhumel.com.auhttps://www.clarkeandhumel.com.au/renting/for-lease/2426-the-crescent/
SUMMARY:Open House: 24/26 The Crescent, Manly
PRIORITY:2
END:VEVENT
END:VCALENDAR
