BEGIN:VCALENDAR
VERSION:2.0
BEGIN:VEVENT
DTSTART:20260422T144000
DTEND:20260422T145500
LOCATION:104/2 Wentworth Street, Manly
DESCRIPTION;ENCODING=QUOTED-PRINTABLE:=
Open House: 104/2 Wentworth Street, Manly=0D=0A22-Apr-2026 2:40PM to 2:55PM=0D=0Ahttp://www.clarkeandhumel.com.auhttps://www.clarkeandhumel.com.au/renting/for-lease/1042-wentworth-street/
SUMMARY:Open House: 104/2 Wentworth Street, Manly
PRIORITY:2
END:VEVENT
END:VCALENDAR
