BEGIN:VCALENDAR
VERSION:2.0
BEGIN:VEVENT
DTSTART:20260523T140000
DTEND:
LOCATION:215 Whale Beach Road, Whale Beach
DESCRIPTION;ENCODING=QUOTED-PRINTABLE:=
Auction: 215 Whale Beach Road, Whale Beach=0D=0A23/5/2026 2:00:00 pm=0D=0Ahttp://www.clarkeandhumel.com.auhttps://www.clarkeandhumel.com.au/buying/for-sale/215-whale-beach-road
SUMMARY:Auction: 215 Whale Beach Road, Whale Beach
PRIORITY:2
END:VEVENT
END:VCALENDAR
