BEGIN:VCALENDAR
VERSION:2.0
BEGIN:VEVENT
DTSTART:20260502T124500
DTEND:20260502T131500
LOCATION:215 Whale Beach Road, Whale Beach
DESCRIPTION;ENCODING=QUOTED-PRINTABLE:=
Open House: 215 Whale Beach Road, Whale Beach=0D=0A02-May-2026 12:45PM to 1:15PM=0D=0Ahttp://www.clarkeandhumel.com.auhttps://www.clarkeandhumel.com.au/buying/for-sale/215-whale-beach-road
SUMMARY:Open House: 215 Whale Beach Road, Whale Beach
PRIORITY:2
END:VEVENT
END:VCALENDAR
