BEGIN:VCALENDAR
VERSION:2.0
BEGIN:VEVENT
DTSTART:20260422T100000
DTEND:20260422T110000
LOCATION:301/48  Lawrence Street, Freshwater
DESCRIPTION;ENCODING=QUOTED-PRINTABLE:=
Open House: 301/48  Lawrence Street, Freshwater=0D=0A22-Apr-2026 10:00AM to 11:00AM=0D=0Ahttp://www.clarkeandhumel.com.auhttps://www.clarkeandhumel.com.au/renting/for-lease/30148-lawrence-street/
SUMMARY:Open House: 301/48  Lawrence Street, Freshwater
PRIORITY:2
END:VEVENT
END:VCALENDAR
