BEGIN:VCALENDAR
VERSION:2.0
BEGIN:VEVENT
DTSTART:20260424T133000
DTEND:20260424T134500
LOCATION:2/15  Stuart Street, Manly
DESCRIPTION;ENCODING=QUOTED-PRINTABLE:=
Open House: 2/15  Stuart Street, Manly=0D=0A24-Apr-2026 1:30PM to 1:45PM=0D=0Ahttp://www.clarkeandhumel.com.auhttps://clarkeandhumel.com.au/renting/for-lease/215-stuart-street
SUMMARY:Open House: 2/15  Stuart Street, Manly
PRIORITY:2
END:VEVENT
END:VCALENDAR
