BEGIN:VCALENDAR
VERSION:2.0
BEGIN:VEVENT
DTSTART:20260422T123500
DTEND:20260422T125000
LOCATION:2/15  Stuart Street, Manly
DESCRIPTION;ENCODING=QUOTED-PRINTABLE:=
Open House: 2/15  Stuart Street, Manly=0D=0A22-Apr-2026 12:35PM to 12:50PM=0D=0Ahttp://www.clarkeandhumel.com.auhttps://clarkeandhumel.com.au/renting/for-lease/215-stuart-street/
SUMMARY:Open House: 2/15  Stuart Street, Manly
PRIORITY:2
END:VEVENT
END:VCALENDAR
