BEGIN:VCALENDAR
VERSION:2.0
BEGIN:VEVENT
DTSTART:20260418T104000
DTEND:20260418T105500
LOCATION:5/64 Carrington Parade, Curl Curl
DESCRIPTION;ENCODING=QUOTED-PRINTABLE:=
Open House: 5/64 Carrington Parade, Curl Curl=0D=0A18-Apr-2026 10:40AM to 10:55AM=0D=0Ahttp://www.clarkeandhumel.com.auhttps://www.clarkeandhumel.com.au/renting/for-lease/564-carrington-parade
SUMMARY:Open House: 5/64 Carrington Parade, Curl Curl
PRIORITY:2
END:VEVENT
END:VCALENDAR
