BEGIN:VCALENDAR
VERSION:2.0
BEGIN:VEVENT
DTSTART:20260418T124500
DTEND:20260418T130000
LOCATION:3/39 Addison Road, Manly
DESCRIPTION;ENCODING=QUOTED-PRINTABLE:=
Open House: 3/39 Addison Road, Manly=0D=0A18-Apr-2026 12:45PM to 1:00PM=0D=0Ahttp://www.clarkeandhumel.com.auhttps://clarkeandhumel.com.au/renting/for-lease/339-addison-road/
SUMMARY:Open House: 3/39 Addison Road, Manly
PRIORITY:2
END:VEVENT
END:VCALENDAR
