BEGIN:VCALENDAR
VERSION:2.0
BEGIN:VEVENT
DTSTART:20260418T090000
DTEND:20260418T091500
LOCATION:15  Earl Street, Beacon Hill
DESCRIPTION;ENCODING=QUOTED-PRINTABLE:=
Open House: 15  Earl Street, Beacon Hill=0D=0A18-Apr-2026 9:00AM to 9:15AM=0D=0Ahttp://www.clarkeandhumel.com.auhttps://clarkeandhumel.com.au/renting/for-lease/15-earl-street/
SUMMARY:Open House: 15  Earl Street, Beacon Hill
PRIORITY:2
END:VEVENT
END:VCALENDAR
