BEGIN:VCALENDAR
VERSION:2.0
BEGIN:VEVENT
DTSTART:20260422T090000
DTEND:20260422T091500
LOCATION:17  Kentwell Road, Allambie Heights
DESCRIPTION;ENCODING=QUOTED-PRINTABLE:=
Open House: 17  Kentwell Road, Allambie Heights=0D=0A22-Apr-2026 9:00AM to 9:15AM=0D=0Ahttp://www.clarkeandhumel.com.auhttps://clarkeandhumel.com.au/renting/for-lease/17-kentwell-road
SUMMARY:Open House: 17  Kentwell Road, Allambie Heights
PRIORITY:2
END:VEVENT
END:VCALENDAR
