BEGIN:VCALENDAR
VERSION:2.0
BEGIN:VEVENT
DTSTART:20260509T150000
DTEND:
LOCATION:1 Hilma Street, Collaroy Plateau
DESCRIPTION;ENCODING=QUOTED-PRINTABLE:=
Auction: 1 Hilma Street, Collaroy Plateau=0D=0A9/5/2026 3:00:00 pm=0D=0Ahttp://www.clarkeandhumel.com.auhttps://clarkeandhumel.com.au/buying/for-sale/1-hilma-street
SUMMARY:Auction: 1 Hilma Street, Collaroy Plateau
PRIORITY:2
END:VEVENT
END:VCALENDAR
