BEGIN:VCALENDAR
VERSION:2.0
BEGIN:VEVENT
DTSTART:20260502T100000
DTEND:20260502T103000
LOCATION:1/55 Crown Road, Queenscliff
DESCRIPTION;ENCODING=QUOTED-PRINTABLE:=
Open House: 1/55 Crown Road, Queenscliff=0D=0A02-May-2026 10:00AM to 10:30AM=0D=0Ahttp://www.clarkeandhumel.com.auhttps://clarkeandhumel.com.au/buying/for-sale/155-crown-road/
SUMMARY:Open House: 1/55 Crown Road, Queenscliff
PRIORITY:2
END:VEVENT
END:VCALENDAR
