BEGIN:VCALENDAR
VERSION:2.0
BEGIN:VEVENT
DTSTART:20260516T103000
DTEND:
LOCATION:5/7 Dalley Street, Queenscliff
DESCRIPTION;ENCODING=QUOTED-PRINTABLE:=
Auction: 5/7 Dalley Street, Queenscliff=0D=0A16/5/2026 10:30:00 am=0D=0Ahttp://www.clarkeandhumel.com.auhttps://clarkeandhumel.com.au/buying/for-sale/57-dalley-street
SUMMARY:Auction: 5/7 Dalley Street, Queenscliff
PRIORITY:2
END:VEVENT
END:VCALENDAR
