BEGIN:VCALENDAR
VERSION:2.0
BEGIN:VEVENT
DTSTART:20260422T103000
DTEND:20260422T110000
LOCATION:5/7 Dalley Street, Queenscliff
DESCRIPTION;ENCODING=QUOTED-PRINTABLE:=
Open House: 5/7 Dalley Street, Queenscliff=0D=0A22-Apr-2026 10:30AM to 11:00AM=0D=0Ahttp://www.clarkeandhumel.com.auhttps://www.clarkeandhumel.com.au/buying/for-sale/57-dalley-street?utm_source=todayacquire&utm_medium=social&utm_campaign=6b9c72dd-544c-4628-b7d4-45ef7915670e&fbclid=IwZXh0bgNhZW0BMABhZGlkAas4eRV8EGpzcnRjBmFwcF9pZAo2NjI4NTY4Mzc5AAEegYbdiJmEZbLeTVYs71ug-PIOKooDbLkicEvXKDM7LH_bxgha_Bl4b1Eo6yQ_aem_7m22bx1grLnMyVZgBfrAtA
SUMMARY:Open House: 5/7 Dalley Street, Queenscliff
PRIORITY:2
END:VEVENT
END:VCALENDAR
