BEGIN:VCALENDAR
VERSION:2.0
BEGIN:VEVENT
DTSTART:20260424T113000
DTEND:20260424T120000
LOCATION:10/108 Soldiers Avenue, Freshwater
DESCRIPTION;ENCODING=QUOTED-PRINTABLE:=
Open House: 10/108 Soldiers Avenue, Freshwater=0D=0A24-Apr-2026 11:30AM to 12:00PM=0D=0Ahttp://www.clarkeandhumel.com.auhttps://www.clarkeandhumel.com.au/buying/for-sale/10108-soldiers-avenue
SUMMARY:Open House: 10/108 Soldiers Avenue, Freshwater
PRIORITY:2
END:VEVENT
END:VCALENDAR
