BEGIN:VCALENDAR
VERSION:2.0
BEGIN:VEVENT
DTSTART:20260422T111500
DTEND:20260422T114500
LOCATION:69 Edgecliffe Boulevard, Collaroy Plateau
DESCRIPTION;ENCODING=QUOTED-PRINTABLE:=
Open House: 69 Edgecliffe Boulevard, Collaroy Plateau=0D=0A22-Apr-2026 11:15AM to 11:45AM=0D=0Ahttp://www.clarkeandhumel.com.auhttps://www.clarkeandhumel.com.au/buying/for-sale/69-edgecliffe-boulevard?utm_source=todayacquire&utm_medium=social&utm_campaign=a895337d-ca75-48f5-baca-2790af53766b&fbclid=IwZXh0bgNhZW0BMABhZGlkAas3-ksjqzpzcnRjBmFwcF9pZAo2NjI4NTY4Mzc5AAEeC35QiHWd2lJBllt2blS0ViaHHmAGAeDC6rjqdRlbYp-hr0-4mzsXenOUZIE_aem_ExR92W_ZkfOD_4lCiXDx5g
SUMMARY:Open House: 69 Edgecliffe Boulevard, Collaroy Plateau
PRIORITY:2
END:VEVENT
END:VCALENDAR
