BEGIN:VCALENDAR
VERSION:2.0
BEGIN:VEVENT
DTSTART:20260516T133000
DTEND:
LOCATION:8/43 Adams Street, Curl Curl
DESCRIPTION;ENCODING=QUOTED-PRINTABLE:=
Auction: 8/43 Adams Street, Curl Curl=0D=0A16/5/2026 1:30:00 pm=0D=0Ahttp://www.clarkeandhumel.com.auhttps://www.clarkeandhumel.com.au/buying/for-sale/843-adams-street
SUMMARY:Auction: 8/43 Adams Street, Curl Curl
PRIORITY:2
END:VEVENT
END:VCALENDAR
