BEGIN:VCALENDAR
VERSION:2.0
BEGIN:VEVENT
DTSTART:20260424T103000
DTEND:20260424T110000
LOCATION:8/43 Adams Street, Curl Curl
DESCRIPTION;ENCODING=QUOTED-PRINTABLE:=
Open House: 8/43 Adams Street, Curl Curl=0D=0A24-Apr-2026 10:30AM to 11:00AM=0D=0Ahttp://www.clarkeandhumel.com.auhttps://www.clarkeandhumel.com.au/buying/for-sale/843-adams-street
SUMMARY:Open House: 8/43 Adams Street, Curl Curl
PRIORITY:2
END:VEVENT
END:VCALENDAR
