BEGIN:VCALENDAR
VERSION:2.0
BEGIN:VEVENT
DTSTART:20260422T130000
DTEND:20260422T133000
LOCATION:8/43 Adams Street, Curl Curl
DESCRIPTION;ENCODING=QUOTED-PRINTABLE:=
Open House: 8/43 Adams Street, Curl Curl=0D=0A22-Apr-2026 1:00PM to 1:30PM=0D=0Ahttp://www.clarkeandhumel.com.auhttps://www.clarkeandhumel.com.au/buying/for-sale/843-adams-street
SUMMARY:Open House: 8/43 Adams Street, Curl Curl
PRIORITY:2
END:VEVENT
END:VCALENDAR
