BEGIN:VCALENDAR
VERSION:2.0
BEGIN:VEVENT
DTSTART:20260422T171500
DTEND:20260422T174500
LOCATION:21/20 Benelong Street, Seaforth
DESCRIPTION;ENCODING=QUOTED-PRINTABLE:=
Open House: 21/20 Benelong Street, Seaforth=0D=0A22-Apr-2026 5:15PM to 5:45PM=0D=0Ahttp://www.clarkeandhumel.com.auhttps://www.clarkeandhumel.com.au/buying/for-sale/2120-benelong-street/
SUMMARY:Open House: 21/20 Benelong Street, Seaforth
PRIORITY:2
END:VEVENT
END:VCALENDAR
