BEGIN:VCALENDAR
VERSION:2.0
BEGIN:VEVENT
DTSTART:20260422T110000
DTEND:20260422T113000
LOCATION:21/20 Benelong Street, Seaforth
DESCRIPTION;ENCODING=QUOTED-PRINTABLE:=
Open House: 21/20 Benelong Street, Seaforth=0D=0A22-Apr-2026 11:00AM to 11:30AM=0D=0Ahttp://www.clarkeandhumel.com.auhttps://www.clarkeandhumel.com.au/buying/for-sale/2120-benelong-street/
SUMMARY:Open House: 21/20 Benelong Street, Seaforth
PRIORITY:2
END:VEVENT
END:VCALENDAR
