BEGIN:VCALENDAR
VERSION:2.0
BEGIN:VEVENT
DTSTART:20260426T090000
DTEND:20260426T093000
LOCATION:21/40-44 Dalley Street, Queenscliff
DESCRIPTION;ENCODING=QUOTED-PRINTABLE:=
Open House: 21/40-44 Dalley Street, Queenscliff=0D=0A26-Apr-2026 9:00AM to 9:30AM=0D=0Ahttp://www.clarkeandhumel.com.auhttps://www.clarkeandhumel.com.au/buying/for-sale/2140-44-dalley-street
SUMMARY:Open House: 21/40-44 Dalley Street, Queenscliff
PRIORITY:2
END:VEVENT
END:VCALENDAR
