BEGIN:VCALENDAR
VERSION:2.0
BEGIN:VEVENT
DTSTART:20260304T105500
DTEND:20260304T111000
LOCATION:75  Sydney road, Manly
DESCRIPTION;ENCODING=QUOTED-PRINTABLE:=
Open House: 75  Sydney road, Manly=0D=0A04-Mar-2026 10:55AM to 11:10AM=0D=0Ahttp://www.clarkeandhumel.com.auhttps://www.clarkeandhumel.com.au/renting/for-lease/75-sydney-road
SUMMARY:Open House: 75  Sydney road, Manly
PRIORITY:2
END:VEVENT
END:VCALENDAR
