BEGIN:VCALENDAR
VERSION:2.0
BEGIN:VEVENT
DTSTART:20260418T100000
DTEND:20260418T103000
LOCATION:63/1 Addison Road, Manly
DESCRIPTION;ENCODING=QUOTED-PRINTABLE:=
Open House: 63/1 Addison Road, Manly=0D=0A18-Apr-2026 10:00AM to 10:30AM=0D=0Ahttp://www.clarkeandhumel.com.auhttps://www.clarkeandhumel.com.au/buying/for-sale/631-addison-road/
SUMMARY:Open House: 63/1 Addison Road, Manly
PRIORITY:2
END:VEVENT
END:VCALENDAR
