BEGIN:VCALENDAR
VERSION:2.0
BEGIN:VEVENT
DTSTART:20260426T110000
DTEND:20260426T113000
LOCATION:9/238 Raglan Street, Mosman
DESCRIPTION;ENCODING=QUOTED-PRINTABLE:=
Open House: 9/238 Raglan Street, Mosman=0D=0A26-Apr-2026 11:00AM to 11:30AM=0D=0Ahttp://www.clarkeandhumel.com.auhttps://www.clarkeandhumel.com.au/buying/for-sale/9238-raglan-street
SUMMARY:Open House: 9/238 Raglan Street, Mosman
PRIORITY:2
END:VEVENT
END:VCALENDAR
