BEGIN:VCALENDAR
VERSION:2.0
BEGIN:VEVENT
DTSTART:20260523T090000
DTEND:
LOCATION:13/49 Osborne Road, Manly
DESCRIPTION;ENCODING=QUOTED-PRINTABLE:=
Auction: 13/49 Osborne Road, Manly=0D=0A23/5/2026 9:00:00 am=0D=0Ahttp://www.clarkeandhumel.com.auhttps://www.clarkeandhumel.com.au/buying/for-sale/1349-osborne-road
SUMMARY:Auction: 13/49 Osborne Road, Manly
PRIORITY:2
END:VEVENT
END:VCALENDAR
