BEGIN:VCALENDAR
VERSION:2.0
BEGIN:VEVENT
DTSTART:20260426T100000
DTEND:20260426T103000
LOCATION:13/49 Osborne Road, Manly
DESCRIPTION;ENCODING=QUOTED-PRINTABLE:=
Open House: 13/49 Osborne Road, Manly=0D=0A26-Apr-2026 10:00AM to 10:30AM=0D=0Ahttp://www.clarkeandhumel.com.auhttps://www.clarkeandhumel.com.au/buying/for-sale/1349-osborne-road
SUMMARY:Open House: 13/49 Osborne Road, Manly
PRIORITY:2
END:VEVENT
END:VCALENDAR
